BEGIN:VCALENDAR
VERSION:2.0
PRODID:-//ChamberMaster//Event Calendar 2.0//EN
METHOD:PUBLISH
X-PUBLISHED-TTL:P3D
REFRESH-INTERVAL:P3D
CALSCALE:GREGORIAN
BEGIN:VEVENT
DTSTART:20220804T220000Z
DTEND:20220805T003000Z
X-MICROSOFT-CDO-ALLDAYEVENT:FALSE
SUMMARY:20th Annual Ribeye Steak Dinner
DESCRIPTION:Enjoy a Ribeye Steak Dinner located at Randy's Neighborhood Market's East Parking Lot. Menu includes Ribeye steak\, baked potato\, baked beans\, cole slaw\, dinner roll and beverage for $15/person or a hot dog\, potato chips\, baked beans\, cole slaw and beverage for $6/person. All profits will be donated to the Dyersville Fire Department. Dyersville Fire Truck will be there for the kids and Tauke Motors and Victory Ford will be displaying their new models. EVERYONE WELCOME !!!!
X-ALT-DESC;FMTTYPE=text/html:Enjoy a Ribeye Steak Dinner located at Randy&#39\;s Neighborhood Market&#39\;s East Parking Lot. Menu includes Ribeye steak\, baked potato\, baked beans\, cole slaw\, dinner roll and beverage for $15/person or a hot dog\, potato chips\, baked beans\, cole slaw and beverage for $6/person. All profits will be donated to the Dyersville Fire Department. Dyersville Fire Truck will be there for the kids and Tauke Motors and Victory Ford will be displaying their new models. EVERYONE WELCOME !!!!
LOCATION:Randy's Neighborhood Market Junction Hwy 136 & 20\, Dyersville
UID:e.2958.780
SEQUENCE:3
DTSTAMP:20260425T024816Z
URL:https://chamber.dyersville.org/events/details/20th-annual-ribeye-steak-dinner-780
END:VEVENT

END:VCALENDAR
