BEGIN:VCALENDAR
VERSION:2.0
PRODID:-//ChamberMaster//Event Calendar 2.0//EN
METHOD:PUBLISH
X-PUBLISHED-TTL:P3D
REFRESH-INTERVAL:P3D
CALSCALE:GREGORIAN
BEGIN:VEVENT
DTSTART:20260314T150000Z
DTEND:20260314T190000Z
X-MICROSOFT-CDO-ALLDAYEVENT:FALSE
SUMMARY:28th Annual Shamrock Bike Ride
DESCRIPTION:28th Annual Shamrock Bike Ride- Dyersville\, IA. If you would like to spread some Irish Cheer\, grab your bike and head to The Palace Saloon\, Textile Brewery or Fuse in Downtown Dyersville.  A 20 mile bike ride will leave at 11:00 AM and travel to The Big House in Petersburg\, where they will have the red carpet rolled out\, with plenty of beads\, ice cold beer\, mixed drinks and Live Music.\n\nYou may make your way to Petersburg and return\, at your leisure.
X-ALT-DESC;FMTTYPE=text/html:28th Annual Shamrock Bike Ride- Dyersville\, IA. If you would like to spread some Irish Cheer\, grab your bike and head to The Palace Saloon\, Textile Brewery or Fuse in Downtown Dyersville.&nbsp\; A 20 mile bike ride will leave at 11:00 AM and travel to The Big House in Petersburg\, where they will have the red carpet rolled out\, with plenty of beads\, ice cold beer\, mixed drinks and Live Music.<br />\nYou may make your way to Petersburg and return\, at your leisure.&nbsp\;
LOCATION:
UID:e.2958.2111
SEQUENCE:3
DTSTAMP:20260421T123611Z
URL:https://chamber.dyersville.org/events/details/28th-annual-shamrock-bike-ride-2111
END:VEVENT

END:VCALENDAR
