BEGIN:VCALENDAR
VERSION:2.0
PRODID:-//ChamberMaster//Event Calendar 2.0//EN
METHOD:PUBLISH
X-PUBLISHED-TTL:P3D
REFRESH-INTERVAL:P3D
CALSCALE:GREGORIAN
BEGIN:VEVENT
DTSTART:20221120T220000Z
DTEND:20221121T020000Z
X-MICROSOFT-CDO-ALLDAYEVENT:FALSE
SUMMARY:Beckman Catholic Open House
DESCRIPTION:Students and their families will take guided tours of the school led by our Student Ambassadors. During the tours\, visitors will experience interactive classroom visits and hear about our past and present academic successes. Please register for a time via this link: https://www.signupgenius.com/go/60B0A4BA9AD28A4F85-fall. We will have one family per student ambassador per time slot. If unable to attend that evening\, contact Joan Hinerichsen at 563-875-7188 or at catholicschoolrocks@gmail.com to schedule a tour.
X-ALT-DESC;FMTTYPE=text/html:Students and their families will take guided tours of the school led by our Student Ambassadors. During the tours\, visitors will experience interactive classroom visits and hear about our past and present academic successes. Please register for a time via this link: https://www.signupgenius.com/go/60B0A4BA9AD28A4F85-fall. We will have one family per student ambassador per time slot. If unable to attend that evening\, contact Joan Hinerichsen at 563-875-7188 or at catholicschoolrocks@gmail.com to schedule a tour.
LOCATION:Beckman Catholic High School
UID:e.2958.843
SEQUENCE:3
DTSTAMP:20260420T104835Z
URL:https://chamber.dyersville.org/events/details/beckman-catholic-open-house-11-20-2022-843
END:VEVENT

END:VCALENDAR
