BEGIN:VCALENDAR
VERSION:2.0
PRODID:-//ChamberMaster//Event Calendar 2.0//EN
METHOD:PUBLISH
X-PUBLISHED-TTL:P3D
REFRESH-INTERVAL:P3D
CALSCALE:GREGORIAN
BEGIN:VEVENT
DTSTART:20230211T180000Z
DTEND:20230211T193000Z
X-MICROSOFT-CDO-ALLDAYEVENT:FALSE
SUMMARY:Beginning Sewing for Teens-Corset Project
DESCRIPTION:Join library staff member Sam as she instructs on making your own custom-fit\, corset-style top. Sewing machines and materials will be provided\, but feel free to bring your own. This class is for those ages 13-20 only. The program is limited to 7 participants so registration is requested.
X-ALT-DESC;FMTTYPE=text/html:Join library staff member Sam as she instructs on making your own custom-fit\, corset-style top. Sewing machines and materials will be provided\, but feel free to bring your own. This class is for those ages 13-20 only. The program is limited to 7 participants so registration is requested.
LOCATION:James Kennedy Public LIbrary
UID:e.2958.902
SEQUENCE:3
DTSTAMP:20260420T164356Z
URL:https://chamber.dyersville.org/events/details/beginning-sewing-for-teens-corset-project-902
END:VEVENT

END:VCALENDAR
