BEGIN:VCALENDAR
VERSION:2.0
PRODID:-//ChamberMaster//Event Calendar 2.0//EN
METHOD:PUBLISH
X-PUBLISHED-TTL:P3D
REFRESH-INTERVAL:P3D
CALSCALE:GREGORIAN
BEGIN:VEVENT
DTSTART:20220918T190000Z
DTEND:20220919T030000Z
X-MICROSOFT-CDO-ALLDAYEVENT:FALSE
SUMMARY:Benefit The Vets
DESCRIPTION:Benefit The Vets with the Bellamy Brothers and John Conlee. Tickets can be purchased at multiple locations: Worthington - City Hall and Last Straw\; Farley - City of Farley and Dirty Ernies\; Dyersville - The Palace Saloon Bar and Grill or online at:  https//benefit-the-vets.square.site
X-ALT-DESC;FMTTYPE=text/html:Benefit The Vets with the Bellamy Brothers and John Conlee. Tickets can be purchased at multiple locations: Worthington - City Hall and Last Straw\; Farley - City of Farley and Dirty Ernies\; Dyersville - The Palace Saloon Bar and Grill or online at:&nbsp\; https//benefit-the-vets.square.site
LOCATION:Worthington\, Iowa
UID:e.2958.552
SEQUENCE:3
DTSTAMP:20260425T024909Z
URL:https://chamber.dyersville.org/events/details/benefit-the-vets-09-18-2022-552
END:VEVENT

END:VCALENDAR
