BEGIN:VCALENDAR
VERSION:2.0
PRODID:-//ChamberMaster//Event Calendar 2.0//EN
METHOD:PUBLISH
X-PUBLISHED-TTL:P3D
REFRESH-INTERVAL:P3D
CALSCALE:GREGORIAN
BEGIN:VEVENT
DTSTART:20220811T170000Z
DTEND:20220811T050000Z
X-MICROSOFT-CDO-ALLDAYEVENT:FALSE
SUMMARY:Beyond The Game
DESCRIPTION:Enjoy a variety of festivities held at multiple locations in Dyersville before\, during and after the August MLB game. See more information at beyondthegameiowa.com
X-ALT-DESC;FMTTYPE=text/html:Enjoy a variety of festivities held at multiple locations in Dyersville before\, during and after the August MLB game. See more information at beyondthegameiowa.com
LOCATION:Dyersville\, Iowa
UID:e.2958.658
SEQUENCE:3
DTSTAMP:20260425T024656Z
URL:https://chamber.dyersville.org/events/details/beyond-the-game-658
END:VEVENT

END:VCALENDAR
