BEGIN:VCALENDAR
VERSION:2.0
PRODID:-//ChamberMaster//Event Calendar 2.0//EN
METHOD:PUBLISH
X-PUBLISHED-TTL:P3D
REFRESH-INTERVAL:P3D
CALSCALE:GREGORIAN
BEGIN:VEVENT
DTSTART:20230212T133000Z
DTEND:20230212T180000Z
X-MICROSOFT-CDO-ALLDAYEVENT:FALSE
SUMMARY:Boy Scout Breakfast
DESCRIPTION:Boy Scout Breakfast-Troop 60 is hosting their 49th Annual Breakfast on Sunday\, February 12th from 7:30 am - Noon\, at St. Francis Xavier School Auditorium. Cost is $10 for a meal including: eggs\, pancakes\, hashbrowns\, sausage and cinnamon rolls.
X-ALT-DESC;FMTTYPE=text/html:Boy Scout Breakfast-Troop 60 is hosting their 49th Annual Breakfast on Sunday\, February 12th from 7:30 am - Noon\, at St. Francis Xavier School Auditorium. Cost is $10 for a meal including: eggs\, pancakes\, hashbrowns\, sausage and cinnamon rolls.
LOCATION:St. Francis Xavier School Auditorium
UID:e.2958.914
SEQUENCE:3
DTSTAMP:20260420T151046Z
URL:https://chamber.dyersville.org/events/details/boy-scout-breakfast-914
END:VEVENT

END:VCALENDAR
