BEGIN:VCALENDAR
VERSION:2.0
PRODID:-//ChamberMaster//Event Calendar 2.0//EN
METHOD:PUBLISH
X-PUBLISHED-TTL:P3D
REFRESH-INTERVAL:P3D
CALSCALE:GREGORIAN
BEGIN:VEVENT
DTSTART:20221210T140000Z
DTEND:20221210T170000Z
X-MICROSOFT-CDO-ALLDAYEVENT:FALSE
SUMMARY:Breakfast with Santa @ Field of Dreams Movie Site
DESCRIPTION:The James Kennedy Public Library is partnering with the Field of Dreams Movie Site for their Breakfast with Santa event. Visit the movie site for a chance to visit with Santa while enjoying donuts\, hot chocolate\, milk and juice. Miss Kim and Samantha from the library will read stories at 9:30\, 10:00 and 10:30 am. Plus the library will set up a coloring station.
X-ALT-DESC;FMTTYPE=text/html:The James Kennedy Public Library is partnering with the Field of Dreams Movie Site for their Breakfast with Santa event. Visit the movie site for a chance to visit with Santa while enjoying donuts\, hot chocolate\, milk and juice. Miss Kim and Samantha from the library will read stories at 9:30\, 10:00 and 10:30 am. Plus the library will set up a coloring station.
LOCATION:Filed of Dreams movie site
UID:e.2958.856
SEQUENCE:3
DTSTAMP:20260420T122851Z
URL:https://chamber.dyersville.org/events/details/breakfast-with-santa-field-of-dreams-movie-site-856
END:VEVENT

END:VCALENDAR
