BEGIN:VCALENDAR
VERSION:2.0
PRODID:-//ChamberMaster//Event Calendar 2.0//EN
METHOD:PUBLISH
X-PUBLISHED-TTL:P3D
REFRESH-INTERVAL:P3D
CALSCALE:GREGORIAN
BEGIN:VEVENT
DTSTART:20220927T203000Z
DTEND:20220927T213000Z
X-MICROSOFT-CDO-ALLDAYEVENT:FALSE
SUMMARY:Building Creativity One Block at a Time: a LEGO® program
DESCRIPTION:This program is for all ages but children under 7 must be accompanied by an adult or older partner. This LEGO  program is part of a monthly LEGO  building block program at the James Kennedy Public Library sponsored by DuTrac Community Credit Union.
X-ALT-DESC;FMTTYPE=text/html:This program is for all ages but children under 7 must be accompanied by an adult or older partner. This LEGO&reg\; program is part of a monthly LEGO&reg\; building block program at the James Kennedy Public Library sponsored by DuTrac Community Credit Union.
LOCATION:James Kennedy Public Library
UID:e.2958.794
SEQUENCE:3
DTSTAMP:20260425T010842Z
URL:https://chamber.dyersville.org/events/details/building-creativity-one-block-at-a-time-a-lego-program-09-27-2022-794
END:VEVENT

END:VCALENDAR
