BEGIN:VCALENDAR
VERSION:2.0
PRODID:-//ChamberMaster//Event Calendar 2.0//EN
METHOD:PUBLISH
X-PUBLISHED-TTL:P3D
REFRESH-INTERVAL:P3D
CALSCALE:GREGORIAN
BEGIN:VEVENT
DTSTART:20211026T210000Z
DTEND:20211026T220000Z
X-MICROSOFT-CDO-ALLDAYEVENT:FALSE
SUMMARY:Checker’s Library TV for Kids Watch Party
DESCRIPTION:The James Kennedy Public Library is pleased to offer a new on demand children's program series\, Checkers Library TV. Checkers is a weekly educational entertainment program starring Checkers the Inventor\, his robot sidekick and a variety of visitors. A new video will be released weekly and kids can come to the library to watch the program and then complete some fun related activities. The videos can also be watched on demand on the JKPL Facebook page and YouTube Channel. For kids in kindergarten thru fourth grade. Registration is encouraged as space is limited but walk-ins welcome if space allows. The theme for this week is: Halloween Special
X-ALT-DESC;FMTTYPE=text/html:The James Kennedy Public Library is pleased to offer a new on demand children&rsquo\;s program series\, Checkers Library TV. Checkers is a weekly educational entertainment program starring Checkers the Inventor\, his robot sidekick and a variety of visitors. A new video will be released weekly and kids can come to the library to watch the program and then complete some fun related activities. The videos can also be watched on demand on the JKPL Facebook page and YouTube Channel. For kids in kindergarten thru fourth grade. Registration is encouraged as space is limited but walk-ins welcome if space allows. The theme for this week is: Halloween Special
LOCATION:James Kennedy Public Library
UID:e.2958.418
SEQUENCE:3
DTSTAMP:20260422T232758Z
URL:https://chamber.dyersville.org/events/details/checker-s-library-tv-for-kids-watch-party-10-26-2021-418
END:VEVENT

END:VCALENDAR
