BEGIN:VCALENDAR
VERSION:2.0
PRODID:-//ChamberMaster//Event Calendar 2.0//EN
METHOD:PUBLISH
X-PUBLISHED-TTL:P3D
REFRESH-INTERVAL:P3D
CALSCALE:GREGORIAN
BEGIN:VEVENT
DTSTART:20220908T230000Z
DTEND:20220909T010000Z
X-MICROSOFT-CDO-ALLDAYEVENT:FALSE
SUMMARY:Circles of Art class
DESCRIPTION:Using the circle as a foundation for the drawings\, class participants will create simple yet beautiful images of nature. Taught by Dianne Kramer. This class is intended for adults. There are a maximum of 16 participants in the class\, so registration is required by 7pm on September 7.
X-ALT-DESC;FMTTYPE=text/html:Using the circle as a foundation for the drawings\, class participants will create simple yet beautiful images of nature. Taught by Dianne Kramer. This class is intended for adults. There are a maximum of 16 participants in the class\, so registration is required by 7pm on September 7.
LOCATION:James Kennedy Public Library
UID:e.2958.787
SEQUENCE:3
DTSTAMP:20260425T010732Z
URL:https://chamber.dyersville.org/events/details/circles-of-art-class-787
END:VEVENT

END:VCALENDAR
