BEGIN:VCALENDAR
VERSION:2.0
PRODID:-//ChamberMaster//Event Calendar 2.0//EN
METHOD:PUBLISH
X-PUBLISHED-TTL:P3D
REFRESH-INTERVAL:P3D
CALSCALE:GREGORIAN
BEGIN:VEVENT
DTSTART:20220917T130000Z
DTEND:20220917T170000Z
X-MICROSOFT-CDO-ALLDAYEVENT:FALSE
SUMMARY:City of Farley Market in the Park
DESCRIPTION:This market will be located in the Farley City Park. This will be a great place to bring the entire family for a Saturday morning. The market will run on the third Saturday of every month with the last outdoor market being in October. Call (563) 690-8567 with any questions
X-ALT-DESC;FMTTYPE=text/html:This market will be located in the Farley City Park. This will be a great place to bring the entire family for a Saturday morning. The market will run on the third Saturday of every month with the last outdoor market being in October. Call (563) 690-8567 with any questions
LOCATION:Farley City Park
UID:e.2958.800
SEQUENCE:3
DTSTAMP:20260425T011317Z
URL:https://chamber.dyersville.org/events/details/city-of-farley-market-in-the-park-800
END:VEVENT

END:VCALENDAR
