BEGIN:VCALENDAR
VERSION:2.0
PRODID:-//ChamberMaster//Event Calendar 2.0//EN
METHOD:PUBLISH
X-PUBLISHED-TTL:P3D
REFRESH-INTERVAL:P3D
CALSCALE:GREGORIAN
BEGIN:VEVENT
DTSTART:20221202T190000Z
DTEND:20221202T230000Z
X-MICROSOFT-CDO-ALLDAYEVENT:FALSE
SUMMARY:Cookie Walk Fundraiser
DESCRIPTION:Craving some special treats but don't have time to bake for yourself? Come to the library for the Cookie Walk Fundraiser! Guests will be able to purchase a dozen items for $6.00 (or 24 for $10.00). Choose from a delicious assortment of homemade treats to be placed on a plate\, covered\, and decorated with a bow. Cookies will be stored away from the public and handled only by staff and volunteers working the event. Prepackaged plates will be available while supplies last. Funds from this event will be used to support the Kids can Cook project.
X-ALT-DESC;FMTTYPE=text/html:Craving some special treats but don&rsquo\;t have time to bake for yourself? Come to the library for the Cookie Walk Fundraiser! Guests will be able to purchase a dozen items for $6.00 (or 24 for $10.00). Choose from a delicious assortment of homemade treats to be placed on a plate\, covered\, and decorated with a bow. Cookies will be stored away from the public and handled only by staff and volunteers working the event. Prepackaged plates will be available while supplies last. Funds from this event will be used to support the Kids can Cook project.
LOCATION:James Kennedy Public Library
UID:e.2958.851
SEQUENCE:3
DTSTAMP:20260420T122403Z
URL:https://chamber.dyersville.org/events/details/cookie-walk-fundraiser-12-02-2022-851
END:VEVENT

END:VCALENDAR
