BEGIN:VCALENDAR
VERSION:2.0
PRODID:-//ChamberMaster//Event Calendar 2.0//EN
METHOD:PUBLISH
X-PUBLISHED-TTL:P3D
REFRESH-INTERVAL:P3D
CALSCALE:GREGORIAN
BEGIN:VEVENT
DTSTART:20230308T180000Z
DTEND:20230308T190000Z
X-MICROSOFT-CDO-ALLDAYEVENT:FALSE
SUMMARY:Customer Service (Shine with Schaefer)
DESCRIPTION:*Identify the situations that are most challenging for your organization. * Determine how you can better understand what drives customer demands. * Calculate the value of a customer. * Provide service that builds ongoing relationships with your customers.
X-ALT-DESC;FMTTYPE=text/html:*Identify the situations that are most challenging for your organization. * Determine how you can better understand what drives customer demands. * Calculate the value of a customer. * Provide service that builds ongoing relationships with your customers.
LOCATION:Dyersville Comfort Inn 527 16th Ave SE
UID:e.2958.892
SEQUENCE:3
DTSTAMP:20260420T164331Z
URL:https://chamber.dyersville.org/events/details/customer-service-shine-with-schaefer-892
END:VEVENT

END:VCALENDAR
