BEGIN:VCALENDAR
VERSION:2.0
PRODID:-//ChamberMaster//Event Calendar 2.0//EN
METHOD:PUBLISH
X-PUBLISHED-TTL:P3D
REFRESH-INTERVAL:P3D
CALSCALE:GREGORIAN
BEGIN:VEVENT
DTSTART:20220917T170000Z
DTEND:20220917T180000Z
X-MICROSOFT-CDO-ALLDAYEVENT:FALSE
SUMMARY:Dress Sewing for Beginners
DESCRIPTION:Have you ever wanted to learn how to make your own dress for a special occasion? Come learn various techniques for making special occasion dresses at this class. An instructional video that ties in to this program will be uploaded to the James Kennedy Public Library's Facebook and YouTube Channel. This class is for those age 10 and up. The program is limited to 15 participants so registration is requested. Walk-ins are welcome if space allows.
X-ALT-DESC;FMTTYPE=text/html:Have you ever wanted to learn how to make your own dress for a special occasion? Come learn various techniques for making special occasion dresses at this class. An instructional video that ties in to this program will be uploaded to the James Kennedy Public Library&#39\;s Facebook and YouTube Channel. This class is for those age 10 and up. The program is limited to 15 participants so registration is requested. Walk-ins are welcome if space allows.
LOCATION:James Kennedy Public Library
UID:e.2958.790
SEQUENCE:3
DTSTAMP:20260425T011623Z
URL:https://chamber.dyersville.org/events/details/dress-sewing-for-beginners-790
END:VEVENT

END:VCALENDAR
