BEGIN:VCALENDAR
VERSION:2.0
PRODID:-//ChamberMaster//Event Calendar 2.0//EN
METHOD:PUBLISH
X-PUBLISHED-TTL:P3D
REFRESH-INTERVAL:P3D
CALSCALE:GREGORIAN
BEGIN:VEVENT
DTSTART:20220220T003000Z
DTEND:20220220T050000Z
X-MICROSOFT-CDO-ALLDAYEVENT:FALSE
SUMMARY:Dueling Pianos
DESCRIPTION:Join us for a fun-filled evening of music and comedy! Ticket includes entertainment and plenty of snacks and appetizers! Cash bar available.
X-ALT-DESC;FMTTYPE=text/html:Join us for a fun-filled evening of music and comedy! Ticket includes entertainment and plenty of snacks and appetizers! Cash bar available.
LOCATION:Beckman Catholic High School\, Jasper Center
UID:e.2958.453
SEQUENCE:3
DTSTAMP:20260419T133004Z
URL:https://chamber.dyersville.org/events/details/dueling-pianos-453
END:VEVENT

END:VCALENDAR
