BEGIN:VCALENDAR
VERSION:2.0
PRODID:-//ChamberMaster//Event Calendar 2.0//EN
METHOD:PUBLISH
X-PUBLISHED-TTL:P3D
REFRESH-INTERVAL:P3D
CALSCALE:GREGORIAN
BEGIN:VEVENT
DTSTART:20220802T223000Z
DTEND:20220803T003000Z
X-MICROSOFT-CDO-ALLDAYEVENT:FALSE
SUMMARY:Dutch Oven Cooking at New Wine Park
DESCRIPTION:Let's get back to the basics and cook with a Dutch oven over fire and coals! Join the JKPL at New Wine Park in New Vienna and gain basic knowledge of how to start cooking outside with a Dutch Oven. This program is presented by Dubuque County Conservation. Participants should meet at New Wine Park\, shortly before 5:30 pm\, in the campground area around sites 4 and 5. Please wear closed-toed shoes. Registration is required as a maximum of 15 people may participate. Please call the library at 875-8912 to register. All ages welcome but children under 16 years of age must be accompanied by an adult.
X-ALT-DESC;FMTTYPE=text/html:Let&rsquo\;s get back to the basics and cook with a Dutch oven over fire and coals! Join the JKPL at New Wine Park in New Vienna and gain basic knowledge of how to start cooking outside with a Dutch Oven. This program is presented by Dubuque County Conservation. Participants should meet at New Wine Park\, shortly before 5:30 pm\, in the campground area around sites 4 and 5. Please wear closed-toed shoes. Registration is required as a maximum of 15 people may participate. Please call the library at 875-8912 to register. All ages welcome but children under 16 years of age must be accompanied by an adult.
LOCATION:New Wine Park in New Vienna
UID:e.2958.747
SEQUENCE:3
DTSTAMP:20260425T025019Z
URL:https://chamber.dyersville.org/events/details/dutch-oven-cooking-at-new-wine-park-747
END:VEVENT

END:VCALENDAR
