BEGIN:VCALENDAR
VERSION:2.0
PRODID:-//ChamberMaster//Event Calendar 2.0//EN
METHOD:PUBLISH
X-PUBLISHED-TTL:P3D
REFRESH-INTERVAL:P3D
CALSCALE:GREGORIAN
BEGIN:VEVENT
DTSTART:20230321T150000Z
DTEND:20230321T170000Z
X-MICROSOFT-CDO-ALLDAYEVENT:FALSE
SUMMARY:Estate Transition Planning Seminar
DESCRIPTION:Community Savings Bank is proud to present a free seminar on Estate Transition Planning with guest speakers Jane Hanson\, Jeff State\, and Nathan Fisher. Topics covered within the seminar include:   Wills & Trusts\, Powers of Attorney\, Directives   Property Ownership\, Coordinating Plans   Goal-setting   Building your legal & professional team   Transition   Deferred Sales Trusts   Next steps - moving ahead with a plan.
X-ALT-DESC;FMTTYPE=text/html:Community Savings Bank is proud to present a free seminar on Estate Transition Planning with guest speakers Jane Hanson\, Jeff State\, and Nathan Fisher. Topics covered within the seminar include: &bull\; Wills &amp\; Trusts\, Powers of Attorney\, Directives &bull\; Property Ownership\, Coordinating Plans &bull\; Goal-setting &bull\; Building your legal &amp\; professional team &bull\; Transition &bull\; Deferred Sales Trusts &bull\; Next steps - moving ahead with a plan.
LOCATION:Dyersville Social Center
UID:e.2958.922
SEQUENCE:3
DTSTAMP:20260420T182154Z
URL:https://chamber.dyersville.org/events/details/estate-transition-planning-seminar-922
END:VEVENT

END:VCALENDAR
