BEGIN:VCALENDAR
VERSION:2.0
PRODID:-//ChamberMaster//Event Calendar 2.0//EN
METHOD:PUBLISH
X-PUBLISHED-TTL:P3D
REFRESH-INTERVAL:P3D
CALSCALE:GREGORIAN
BEGIN:VEVENT
DTSTART:20230203T003000Z
DTEND:20230203T020000Z
X-MICROSOFT-CDO-ALLDAYEVENT:FALSE
SUMMARY:Explore Journaling
DESCRIPTION:Karen Schloss will lead this five-session class on journals at the library. Come learn about the variety of journals available and talk about how each one works. Each session will focus on a different type of journal. Please contact the library to register. Session 1: Learn the difference between the various types of journals how each one works.
X-ALT-DESC;FMTTYPE=text/html:Karen Schloss will lead this five-session class on journals at the library. Come learn about the variety of journals available and talk about how each one works. Each session will focus on a different type of journal. Please contact the library to register. Session 1: Learn the difference between the various types of journals how each one works.
LOCATION:James Kennedy Public Library
UID:e.2958.908
SEQUENCE:3
DTSTAMP:20260420T150826Z
URL:https://chamber.dyersville.org/events/details/explore-journaling-908
END:VEVENT

END:VCALENDAR
