BEGIN:VCALENDAR
VERSION:2.0
PRODID:-//ChamberMaster//Event Calendar 2.0//EN
METHOD:PUBLISH
X-PUBLISHED-TTL:P3D
REFRESH-INTERVAL:P3D
CALSCALE:GREGORIAN
BEGIN:VEVENT
DTSTART;VALUE=DATE:20220805
DTEND;VALUE=DATE:20220815
TRANSP:TRANSPARENT
X-MICROSOFT-CDO-ALLDAYEVENT:TRUE
SUMMARY:Field of Dreams Movie Site
DESCRIPTION:Filed of Dreams will be closed to the public from August 5\, 2022 through August 14\, 2022.
X-ALT-DESC;FMTTYPE=text/html:Filed of Dreams will be closed to the public from August 5\, 2022 through August 14\, 2022.
LOCATION:Field of Dreams Movie Site
UID:e.2958.698
SEQUENCE:3
DTSTAMP:20260425T025117Z
URL:https://chamber.dyersville.org/events/details/field-of-dreams-movie-site-698
END:VEVENT

END:VCALENDAR
