BEGIN:VCALENDAR
VERSION:2.0
PRODID:-//ChamberMaster//Event Calendar 2.0//EN
METHOD:PUBLISH
X-PUBLISHED-TTL:P3D
REFRESH-INTERVAL:P3D
CALSCALE:GREGORIAN
BEGIN:VEVENT
DTSTART:20220904T233000Z
DTEND:20220905T033000Z
X-MICROSOFT-CDO-ALLDAYEVENT:FALSE
SUMMARY:Ford Drive-In Movie Night
DESCRIPTION:Join Victory Ford in their very 1st Drive-In Movie Night. Concessions will be available. Children entertainment from 6:30-Dusk. Movie Showing: Space Jam\, Back to the Future\, or Soul - Depending on Social Media Votes. FREE to the public!
X-ALT-DESC;FMTTYPE=text/html:Join Victory Ford in their very 1st Drive-In Movie Night. Concessions will be available. Children entertainment from 6:30-Dusk. Movie Showing: Space Jam\, Back to the Future\, or Soul - Depending on Social Media Votes. FREE to the public!
LOCATION:Victory Ford
UID:e.2958.781
SEQUENCE:3
DTSTAMP:20260425T011103Z
URL:https://chamber.dyersville.org/events/details/ford-drive-in-movie-night-781
END:VEVENT

END:VCALENDAR
