BEGIN:VCALENDAR
VERSION:2.0
PRODID:-//ChamberMaster//Event Calendar 2.0//EN
METHOD:PUBLISH
X-PUBLISHED-TTL:P3D
REFRESH-INTERVAL:P3D
CALSCALE:GREGORIAN
BEGIN:VEVENT
DTSTART:20220828T143000Z
DTEND:20220829T020000Z
X-MICROSOFT-CDO-ALLDAYEVENT:FALSE
SUMMARY:Go The Distance Cornhole Tournament: Final Bracket
DESCRIPTION:Experience a one-a-kind event at The Field of Dreams Movie Site as history as we the first-ever cornhole (aka "bags") tournament Friday\, Aug. 26 - Sunday\, Aug. 28\, 2022. The Go the Distance Festival is a three-day cornhole event featuring Doubles competition\; The Dream Team Invitational. Friday and Saturday will feature four Doubles Qualifier tournaments\, with the top six teams of each qualifier advancing to Sunday's final bracket. These qualifiers are all open to the public for registration! On Sunday\, the advancing teams will compete against the ACO "Corny 40"\, the top 40 Season 17 ranked ACO players in the world\, and their respectively chosen partners. The tournament has a total purse attached to the event of $25\,000\, with the top 64 teams all guaranteed to walk away with prize money! The winning team will take home a cash prize and a specially designed commemorative trophy.
X-ALT-DESC;FMTTYPE=text/html:Experience a one-a-kind event at The Field of Dreams Movie Site as history as we the first-ever cornhole (aka &quot\;bags&quot\;) tournament Friday\, Aug. 26 - Sunday\, Aug. 28\, 2022. The Go the Distance Festival is a three-day cornhole event featuring Doubles competition\; The Dream Team Invitational. Friday and Saturday will feature four Doubles Qualifier tournaments\, with the top six teams of each qualifier advancing to Sunday&rsquo\;s final bracket.&nbsp\;These qualifiers are all open to the public for registration! On Sunday\, the advancing teams will compete against the ACO &ldquo\;Corny 40&rdquo\;\, the top 40 Season 17 ranked ACO players in the world\, and their respectively chosen partners. The tournament has a total purse attached to the event of $25\,000\, with the top 64 teams all guaranteed to walk away with prize money! The winning team will take home a cash prize and a specially designed commemorative trophy.
LOCATION:Field of Dreams Movie Site 28995 Lansing Rd. Dyersville\, IA 52040
UID:e.2958.480
SEQUENCE:3
DTSTAMP:20260425T024824Z
URL:https://chamber.dyersville.org/events/details/go-the-distance-cornhole-tournament-final-bracket-480
END:VEVENT

END:VCALENDAR
