BEGIN:VCALENDAR
VERSION:2.0
PRODID:-//ChamberMaster//Event Calendar 2.0//EN
METHOD:PUBLISH
X-PUBLISHED-TTL:P3D
REFRESH-INTERVAL:P3D
CALSCALE:GREGORIAN
BEGIN:VEVENT
DTSTART:20230323T233000Z
DTEND:20230324T010000Z
X-MICROSOFT-CDO-ALLDAYEVENT:FALSE
SUMMARY:Iowa Legal Aid presents Tax Basics
DESCRIPTION:Attorney Ben Hamel from Iowa Legal Aid will be at the James Kennedy Public Library to present this program on taxes. This presentation will include information on deductions\, exemptions\, credits\, refunds and where people can look to get some help filing their taxes. He will also talk about the Volunteer Income Tax Assistance (VITA) program\, which offers free tax help to people who qualify. All are welcome. Bring your questions!
X-ALT-DESC;FMTTYPE=text/html:Attorney Ben Hamel from Iowa Legal Aid will be at the James Kennedy Public Library to present this program on taxes. This presentation will include information on deductions\, exemptions\, credits\, refunds and where people can look to get some help filing their taxes. He will also talk about the Volunteer Income Tax Assistance (VITA) program\, which offers free tax help to people who qualify. All are welcome. Bring your questions!
LOCATION:James Kennedy Public Library
UID:e.2958.920
SEQUENCE:3
DTSTAMP:20260420T164902Z
URL:https://chamber.dyersville.org/events/details/iowa-legal-aid-presents-tax-basics-920
END:VEVENT

END:VCALENDAR
