BEGIN:VCALENDAR
VERSION:2.0
PRODID:-//ChamberMaster//Event Calendar 2.0//EN
METHOD:PUBLISH
X-PUBLISHED-TTL:P3D
REFRESH-INTERVAL:P3D
CALSCALE:GREGORIAN
BEGIN:VEVENT
DTSTART:20220821T180000Z
DTEND:20220821T210000Z
X-MICROSOFT-CDO-ALLDAYEVENT:FALSE
SUMMARY:Jimmy Welty Band @ O So Good Winery
DESCRIPTION:Live music by Jimmy Welty Band at O So Good Winery on Sunday August 21th from 1 to 4pm. O So Good Winery is located at 2093 20th Ave SE Dyersville\, Iowa 52040. Come on out and enjoy some wine\, beer\, food and great music. Free admission. Contact the winery at 563-599-1262 for more information.
X-ALT-DESC;FMTTYPE=text/html:Live music by Jimmy Welty Band at O So Good Winery on Sunday August 21th from 1 to 4pm. O So Good Winery is located at 2093 20th Ave SE Dyersville\, Iowa 52040. Come on out and enjoy some wine\, beer\, food and great music. Free admission. Contact the winery at 563-599-1262 for more information.
LOCATION:Event location: 2093 20th Ave SE Dyersville\, Iowa 52040
UID:e.2958.712
SEQUENCE:3
DTSTAMP:20260425T025018Z
URL:https://chamber.dyersville.org/events/details/jimmy-welty-band-o-so-good-winery-712
END:VEVENT

END:VCALENDAR
