BEGIN:VCALENDAR
VERSION:2.0
PRODID:-//ChamberMaster//Event Calendar 2.0//EN
METHOD:PUBLISH
X-PUBLISHED-TTL:P3D
REFRESH-INTERVAL:P3D
CALSCALE:GREGORIAN
BEGIN:VEVENT
DTSTART:20260320T203000Z
DTEND:20260321T160000Z
X-MICROSOFT-CDO-ALLDAYEVENT:FALSE
SUMMARY:Junior Garage Sale
DESCRIPTION:Beckman Catholic Junior Garage Sale Friday\, March 20 from 3:30 - 6:30 PM Saturday\, March 21 from 8:00 - 11:00 PM @ Beckman Competition Gym The junior class is raising funds for Prom by hosting a Garage Sale in March. We are seeking donations to sell: toys\, games\, puzzles\, books\, children clothes\, men/women clothes\, Beckman apparel\, or other items. No large glass items. If you are getting rid of any items\, please consider holding on to them for our spring garage sale. Items are typically marked at $2. Thank you for any contribution you can give.
X-ALT-DESC;FMTTYPE=text/html:Beckman Catholic Junior Garage Sale Friday\, March 20 from 3:30 - 6:30 PM Saturday\, March 21 from 8:00 - 11:00 PM @ Beckman Competition Gym The junior class is raising funds for Prom by hosting a Garage Sale in March. We are seeking donations to sell: toys\, games\, puzzles\, books\, children clothes\, men/women clothes\, Beckman apparel\, or other items. No large glass items. If you are getting rid of any items\, please consider holding on to them for our spring garage sale. Items are typically marked at $2. Thank you for any contribution you can give.
LOCATION:Beckman Catholic High School
UID:e.2958.2028
SEQUENCE:3
DTSTAMP:20260421T123043Z
URL:https://chamber.dyersville.org/events/details/junior-garage-sale-2028
END:VEVENT

END:VCALENDAR
