BEGIN:VCALENDAR
VERSION:2.0
PRODID:-//ChamberMaster//Event Calendar 2.0//EN
METHOD:PUBLISH
X-PUBLISHED-TTL:P3D
REFRESH-INTERVAL:P3D
CALSCALE:GREGORIAN
BEGIN:VEVENT
DTSTART:20230225T160000Z
DTEND:20230225T180000Z
X-MICROSOFT-CDO-ALLDAYEVENT:FALSE
SUMMARY:LEGO® Mindstorm Robotics
DESCRIPTION:Kids can join us at the library on Saturdays in February for this 4-session series on robotics. Each week will build upon the previous week's work. This series is recommended for ages 10 and up. Registration is requested and is for all four weeks. Basic computer skills are required. This program is sponsored by DuTrac Community Credit Union.
X-ALT-DESC;FMTTYPE=text/html:Kids can join us at the library on Saturdays in February for this 4-session series on robotics. Each week will build upon the previous week&rsquo\;s work. This series is recommended for ages 10 and up. Registration is requested and is for all four weeks. Basic computer skills are required. This program is sponsored by DuTrac Community Credit Union.
LOCATION:James Kennedy Public Library
UID:e.2958.907
SEQUENCE:3
DTSTAMP:20260420T151304Z
URL:https://chamber.dyersville.org/events/details/lego-mindstorm-robotics-02-25-2023-907
END:VEVENT

END:VCALENDAR
