BEGIN:VCALENDAR
VERSION:2.0
PRODID:-//ChamberMaster//Event Calendar 2.0//EN
METHOD:PUBLISH
X-PUBLISHED-TTL:P3D
REFRESH-INTERVAL:P3D
CALSCALE:GREGORIAN
BEGIN:VEVENT
DTSTART:20260429T190000Z
DTEND:20260429T200000Z
X-MICROSOFT-CDO-ALLDAYEVENT:FALSE
SUMMARY:Community Tree Planting Day- Knepper Center/Kid Project
DESCRIPTION:Dyersville\, Iowa ~ April 16\, 2026   Thanks to a $3\,000 grant from Alliant Energy's Community Tree \n\nPlanting Program\, Part of the One Million Trees Initiative\, we will be hosting a community planting day \n\non April 29\, 2026\, beginning at 2pm. \n\nThe $3\,000 grant will be used to purchase 20 trees\, (10) Norway Spruce and (10) Red Cedars. These \n\ntrees will help to shade our playground area as well as protect us from the wind. The trees have been \n\nselected for the location with the help of our Trees Forever partners. Part of the grant is the trees all \n\nneed to be planted by volunteers. \n\nAlliant Energy has committed to planting 1 million trees in Iowa and Wisconsin by the end of 2030. As of \n\nJanuary 2026\, they have planted 627\,644 trees. Planting trees provides more shade and cools the air\, \n\nhelping lower energy costs and reduces peak electric demand. Each mature tree sequesters about 1\,000 \n\npounds of CO2 each year\; as our trees grow they'll make our communities healthier and more beautiful \n\nplaces to live. \n\nWe welcome all volunteers from the community as many hands make light work to get these trees \n\nplanted. After school students at The Kid Project will be able to help as well! Bring a shovel and gloves if \n\nyou are able. Please reach out to Barb at 563.875.2080 or cindy@dyersville.com to RSVP and with any questions.
X-ALT-DESC;FMTTYPE=text/html:Dyersville\, Iowa ~ April 16\, 2026 &ndash\; Thanks to a $3\,000 grant from Alliant Energy&rsquo\;s Community Tree&nbsp\;<br />\nPlanting Program\, Part of the One Million Trees Initiative\, we will be hosting a community planting day&nbsp\;<br />\non April 29\, 2026\, beginning at 2pm.&nbsp\;<br />\nThe $3\,000 grant will be used to purchase 20 trees\, (10) Norway Spruce and (10) Red Cedars. These&nbsp\;<br />\ntrees will help to shade our playground area as well as protect us from the wind. The trees have been&nbsp\;<br />\nselected for the location with the help of our Trees Forever partners. Part of the grant is the trees all&nbsp\;<br />\nneed to be planted by volunteers.&nbsp\;<br />\nAlliant Energy has committed to planting 1 million trees in Iowa and Wisconsin by the end of 2030. As of&nbsp\;<br />\nJanuary 2026\, they have planted 627\,644 trees. Planting trees provides more shade and cools the air\,&nbsp\;<br />\nhelping lower energy costs and reduces peak electric demand. Each mature tree sequesters about 1\,000&nbsp\;<br />\npounds of CO2 each year\; as our trees grow they&rsquo\;ll make our communities healthier and more beautiful&nbsp\;<br />\nplaces to live.&nbsp\;<br />\nWe welcome all volunteers from the community as many hands make light work to get these trees&nbsp\;<br />\nplanted. After school students at The Kid Project will be able to help as well! Bring a shovel and gloves if&nbsp\;<br />\nyou are able. Please reach out to Barb at 563.875.2080 or cindy@dyersville.com to RSVP and with any questions.
LOCATION:Knepper Center/ Kid Project 2365 Industrial Pkwy SW
UID:e.2958.1347
SEQUENCE:3
DTSTAMP:20260420T041329Z
URL:https://chamber.dyersville.org/events/details/lion-s-club-dyersville-park-rec-tree-planting-1347
END:VEVENT

END:VCALENDAR
