BEGIN:VCALENDAR
VERSION:2.0
PRODID:-//ChamberMaster//Event Calendar 2.0//EN
METHOD:PUBLISH
X-PUBLISHED-TTL:P3D
REFRESH-INTERVAL:P3D
CALSCALE:GREGORIAN
BEGIN:VEVENT
DTSTART:20220715T150000Z
DTEND:20220715T160000Z
X-MICROSOFT-CDO-ALLDAYEVENT:FALSE
SUMMARY:Mississippi River Life with the Mississippi River Museum
DESCRIPTION:Mussels\, snakes and beavers\; each species has a niche or role in the environment. Through the use of pelts and other hands-on items\, participants will explore animals that call the Mississippi River home. This program will include one or two live animals. All ages are welcome. Funded by the Friends of the Library.
X-ALT-DESC;FMTTYPE=text/html:Mussels\, snakes and beavers\; each species has a niche or role in the environment. Through the use of pelts and other hands-on items\, participants will explore animals that call the Mississippi River home. This program will include one or two live animals. All ages are welcome. Funded by the Friends of the Library.
LOCATION:James Kennedy Public Library
UID:e.2958.731
SEQUENCE:3
DTSTAMP:20260424T023254Z
URL:https://chamber.dyersville.org/events/details/mississippi-river-life-with-the-mississippi-river-museum-731
END:VEVENT

END:VCALENDAR
