BEGIN:VCALENDAR
VERSION:2.0
PRODID:-//ChamberMaster//Event Calendar 2.0//EN
METHOD:PUBLISH
X-PUBLISHED-TTL:P3D
REFRESH-INTERVAL:P3D
CALSCALE:GREGORIAN
BEGIN:VEVENT
DTSTART:20230305T003000Z
DTEND:20230305T030000Z
X-MICROSOFT-CDO-ALLDAYEVENT:FALSE
SUMMARY:Murder Mystery Dinner Fundraiser
DESCRIPTION:Join us for the return of the James Kennedy Public Library's Murder Mystery Dinner Fundraiser. This event will feature a renaissance mystery performed by the Brew Ha Ha Players and a meal catered by J & D Catering. The event will be held at the Dyersville Social Center. Seating is limited and tickets must be purchased before February 24 at the library. Visit the library website for more information.
X-ALT-DESC;FMTTYPE=text/html:Join us for the return of the James Kennedy Public Library&rsquo\;s Murder Mystery Dinner Fundraiser. This event will feature a renaissance mystery performed by the Brew Ha Ha Players and a meal catered by J &amp\; D Catering. The event will be held at the Dyersville Social Center. Seating is limited and tickets must be purchased before February 24 at the library. Visit the library website for more information.
LOCATION:Dyersville Social Center 625 3rd Ave SE Dyersville\, IA
UID:e.2958.898
SEQUENCE:3
DTSTAMP:20260420T182111Z
URL:https://chamber.dyersville.org/events/details/murder-mystery-dinner-fundraiser-898
END:VEVENT

END:VCALENDAR
