BEGIN:VCALENDAR
VERSION:2.0
PRODID:-//ChamberMaster//Event Calendar 2.0//EN
METHOD:PUBLISH
X-PUBLISHED-TTL:P3D
REFRESH-INTERVAL:P3D
CALSCALE:GREGORIAN
BEGIN:VEVENT
DTSTART:20250824T180000Z
DTEND:20250824T210000Z
X-MICROSOFT-CDO-ALLDAYEVENT:FALSE
SUMMARY:Music with Josie Wails @ O So Good Winery & Distillery
DESCRIPTION:Come out to enjoy music with Josie Wails from 1-4:00 pm. Have a great afternoon with your favorite OSG wine or mixed drink made with our locally made spirits. Our kitchen is always open\, serving appetizers to pizza\, sandwiches\, salads and more.
X-ALT-DESC;FMTTYPE=text/html:Come out to enjoy music with Josie Wails from 1-4:00 pm. Have a great afternoon with your favorite OSG wine or mixed drink made with our locally made spirits. Our kitchen is always open\, serving appetizers to pizza\, sandwiches\, salads and more.
LOCATION:O So Good Winery & Distillery 2093 20th Ave SE Dyersville\, Ia 52040
UID:e.2958.1824
SEQUENCE:3
DTSTAMP:20260420T103648Z
URL:https://chamber.dyersville.org/events/details/music-with-josie-wails-o-so-good-winery-distillery-1824
END:VEVENT

END:VCALENDAR
