BEGIN:VCALENDAR
VERSION:2.0
PRODID:-//ChamberMaster//Event Calendar 2.0//EN
METHOD:PUBLISH
X-PUBLISHED-TTL:P3D
REFRESH-INTERVAL:P3D
CALSCALE:GREGORIAN
BEGIN:VEVENT
DTSTART:20230221T220000Z
DTEND:20230222T000000Z
X-MICROSOFT-CDO-ALLDAYEVENT:FALSE
SUMMARY:National Engineers Week Rumble Table Construction Challenge
DESCRIPTION:Using the library's buildables (LEGOs\, Lincoln Logs\, Magnatiles\, etc)\, participants will build structures capable of lasting one round on a rumble table (a device that simulates earthquakes). Farmtek Engineer Danielle Will and Dyersville City Engineer John Wandsnider will be on hand to answer questions. For ages 7 and up.
X-ALT-DESC;FMTTYPE=text/html:Using the library&rsquo\;s buildables (LEGOs\, Lincoln Logs\, Magnatiles\, etc)\, participants will build structures capable of lasting one round on a rumble table (a device that simulates earthquakes). Farmtek Engineer Danielle Will and Dyersville City Engineer John Wandsnider will be on hand to answer questions. For ages 7 and up.
LOCATION:James Kennedy Public Library
UID:e.2958.900
SEQUENCE:3
DTSTAMP:20260420T151108Z
URL:https://chamber.dyersville.org/events/details/national-engineers-week-rumble-table-construction-challenge-900
END:VEVENT

END:VCALENDAR
