BEGIN:VCALENDAR
VERSION:2.0
PRODID:-//ChamberMaster//Event Calendar 2.0//EN
METHOD:PUBLISH
X-PUBLISHED-TTL:P3D
REFRESH-INTERVAL:P3D
CALSCALE:GREGORIAN
BEGIN:VEVENT
DTSTART:20220806T210000Z
DTEND:20220806T230000Z
X-MICROSOFT-CDO-ALLDAYEVENT:FALSE
SUMMARY:Nerf War @ James Kennedy Public Library
DESCRIPTION:Bring your Nerf gun and ammo and head to the library for this bi-monthly Nerf War! Participants must be 13 or older and anyone under 18 must have a signed parental waiver. Registration requested as 10 people are required to hold the program and a max of 20 is allowed. Walk-ins are welcome\, if space allows. Participants must provide their own Nerf guns and ammo. Please contact the library at 563-875-8912 to register.
X-ALT-DESC;FMTTYPE=text/html:Bring your Nerf gun and ammo and head to the library for this bi-monthly Nerf War! Participants must be 13 or older and anyone under 18 must have a signed parental waiver. Registration requested as 10 people are required to hold the program and a max of 20 is allowed. Walk-ins are welcome\, if space allows. Participants must provide their own Nerf guns and ammo. Please contact the library at 563-875-8912 to register.
LOCATION:James Kennedy Public Library
UID:e.2958.749
SEQUENCE:3
DTSTAMP:20260425T024815Z
URL:https://chamber.dyersville.org/events/details/nerf-war-james-kennedy-public-library-749
END:VEVENT

END:VCALENDAR
