BEGIN:VCALENDAR
VERSION:2.0
PRODID:-//ChamberMaster//Event Calendar 2.0//EN
METHOD:PUBLISH
X-PUBLISHED-TTL:P3D
REFRESH-INTERVAL:P3D
CALSCALE:GREGORIAN
BEGIN:VEVENT
DTSTART:20230318T122500Z
DTEND:20230318T160000Z
X-MICROSOFT-CDO-ALLDAYEVENT:FALSE
SUMMARY:New Vienna Farmer's Parade
DESCRIPTION:Come to New Vienna for a day full of fun on Saturday\, March 18! Kick off the day with a Pancake and Sausage Breakfast at the VFW\, serving 7:30am-11:00am. Followed by the annual parade at 1pm. Grab your family\, neighbors\, or friends and put together your best farm-themed float! Cash prizes for the top 3 floats. VFW will be open all day and Buenie Bottoms food truck will be serving food from 2-8:30 by the VFW. End the night at the New Vienna Hall with music by Lonesome Road hosted by the New Vienna Area Men's Association. Doors open at 6pm and the music starts at 7pm. Freewill donation at the door and you must be 21 to enter.
X-ALT-DESC;FMTTYPE=text/html:Come to New Vienna for a day full of fun on Saturday\, March 18! Kick off the day with a Pancake and Sausage Breakfast at the VFW\, serving 7:30am-11:00am. Followed by the annual parade at 1pm. Grab your family\, neighbors\, or friends and put together your best farm-themed float! Cash prizes for the top 3 floats. VFW will be open all day and Buenie Bottoms food truck will be serving food from 2-8:30 by the VFW. End the night at the New Vienna Hall with music by Lonesome Road hosted by the New Vienna Area Men&#39\;s Association. Doors open at 6pm and the music starts at 7pm. Freewill donation at the door and you must be 21 to enter.
LOCATION:New Vienna\, Iowa
UID:e.2958.915
SEQUENCE:3
DTSTAMP:20260420T164629Z
URL:https://chamber.dyersville.org/events/details/new-vienna-farmer-s-parade-915
END:VEVENT

END:VCALENDAR
