BEGIN:VCALENDAR
VERSION:2.0
PRODID:-//ChamberMaster//Event Calendar 2.0//EN
METHOD:PUBLISH
X-PUBLISHED-TTL:P3D
REFRESH-INTERVAL:P3D
CALSCALE:GREGORIAN
BEGIN:VEVENT
DTSTART:20230314T010000Z
DTEND:20230314T020000Z
X-MICROSOFT-CDO-ALLDAYEVENT:FALSE
SUMMARY:Read Across America: After Hours @ Your Library
DESCRIPTION:Come to the James Kennedy Public Library for this after hours reading party to celebrate Read Across America! Families can bring their children to the library at 8:00 pm and then build a reading tent using blankets\, chairs\, and tables. At 8:15 pm it will be lights out for a half hour of reading by flashlight. We will have a few pillows\, blankets\, and flashlights on hand\, but please feel free to bring your own. At 8:45 pm we will turn the lights back on to deconstruct our tents and have some cookies and milk. Pajama wearers are welcome! Children under 8 need an adult companion.
X-ALT-DESC;FMTTYPE=text/html:Come to the James Kennedy Public Library for this after hours reading party to celebrate Read Across America! Families can bring their children to the library at 8:00 pm and then build a reading tent using blankets\, chairs\, and tables. At 8:15 pm it will be lights out for a half hour of reading by flashlight. We will have a few pillows\, blankets\, and flashlights on hand\, but please feel free to bring your own. At 8:45 pm we will turn the lights back on to deconstruct our tents and have some cookies and milk. Pajama wearers are welcome! Children under 8 need an adult companion.
LOCATION:James Kennedy Public Library
UID:e.2958.919
SEQUENCE:3
DTSTAMP:20260420T182441Z
URL:https://chamber.dyersville.org/events/details/read-across-america-after-hours-your-library-919
END:VEVENT

END:VCALENDAR
