BEGIN:VCALENDAR
VERSION:2.0
PRODID:-//ChamberMaster//Event Calendar 2.0//EN
METHOD:PUBLISH
X-PUBLISHED-TTL:P3D
REFRESH-INTERVAL:P3D
CALSCALE:GREGORIAN
BEGIN:VEVENT
DTSTART:20221105T160000Z
DTEND:20221105T173000Z
X-MICROSOFT-CDO-ALLDAYEVENT:FALSE
SUMMARY:Reclaim Power of Your Primary Assets
DESCRIPTION:Are you stressed out from constantly being busy and feeling as though life on a hamster wheel is the role of adulthood? IT DOESN'T HAVE TO BE! This class provides an overview of our 3 primary assets (time\, energy\, and priorities)\, our key energy levels\, and how activities can maximize productivity and help us take back our life. Presented by Andrea Mausser\, Certified Health & Life Coach. Sponsored by the Friends of the James Kennedy Public Library. Registration requested but walk-ins welcome as space allows.
X-ALT-DESC;FMTTYPE=text/html:Are you stressed out from constantly being busy and feeling as though life on a hamster wheel is the role of adulthood? IT DOESN&rsquo\;T HAVE TO BE! This class provides an overview of our 3 primary assets (time\, energy\, and priorities)\, our key energy levels\, and how activities can maximize productivity and help us take back our life. Presented by Andrea Mausser\, Certified Health &amp\; Life Coach. Sponsored by the Friends of the James Kennedy Public Library.&nbsp\;Registration requested but walk-ins welcome as space allows.
LOCATION:James Kennedy Public Library
UID:e.2958.834
SEQUENCE:3
DTSTAMP:20260420T105507Z
URL:https://chamber.dyersville.org/events/details/reclaim-power-of-your-primary-assets-834
END:VEVENT

END:VCALENDAR
