BEGIN:VCALENDAR
VERSION:2.0
PRODID:-//ChamberMaster//Event Calendar 2.0//EN
METHOD:PUBLISH
X-PUBLISHED-TTL:P3D
REFRESH-INTERVAL:P3D
CALSCALE:GREGORIAN
BEGIN:VEVENT
DTSTART:20221218T190000Z
DTEND:20221218T230000Z
X-MICROSOFT-CDO-ALLDAYEVENT:FALSE
SUMMARY:Santa Coming to New Vienna & Luxemburg
DESCRIPTION:Santa will be coming to the towns of Luxemburg and New Vienna on Sunday\, December 18th. Santa\, Mrs. Claus and his elves will be escorted through these towns and will cover every street with his elves walking along side.  If any children would like to write a letter to Santa\, the elves will collect them\; please include first and last name and an address. Santa will arrive in Luxemburg at 1:00 PM and then will arrive in New Vienna at 3:00 PM.
X-ALT-DESC;FMTTYPE=text/html:Santa will be coming to the towns of Luxemburg and New Vienna on Sunday\, December 18th. Santa\, Mrs. Claus and his elves will be escorted through these towns and will cover every street with his elves walking along side.&nbsp\; If any children would like to write a letter to Santa\, the elves will collect them\; please include first and last name and an address. Santa will arrive in Luxemburg at 1:00 PM and then will arrive in New Vienna at 3:00 PM.
LOCATION:Luxemburg\, Iowa @ 1:00 PM New Vienna\, Iowa @ 3:00 PM
UID:e.2958.860
SEQUENCE:3
DTSTAMP:20260420T140043Z
URL:https://chamber.dyersville.org/events/details/santa-coming-to-new-vienna-luxemburg-860
END:VEVENT

END:VCALENDAR
