BEGIN:VCALENDAR
VERSION:2.0
PRODID:-//ChamberMaster//Event Calendar 2.0//EN
METHOD:PUBLISH
X-PUBLISHED-TTL:P3D
REFRESH-INTERVAL:P3D
CALSCALE:GREGORIAN
BEGIN:VEVENT
DTSTART:20221217T163000Z
DTEND:20221217T180000Z
X-MICROSOFT-CDO-ALLDAYEVENT:FALSE
SUMMARY:Santa is Coming to Worthington Iowa
DESCRIPTION:Santa Claus will be visiting the children in Worthington on Saturday\, December 17th. Santa is scheduled to arrive at 10:30 am via fire truck. Come and let Santa know your Christmas wish list and receive something special from Santa. The City of Worthington will also be hosting a coloring contest for the children of the community
X-ALT-DESC;FMTTYPE=text/html:Santa Claus will be visiting the children in Worthington on Saturday\, December 17th. Santa is scheduled to arrive at 10:30 am via fire truck. Come and let Santa know your Christmas wish list and receive something special from Santa. The City of Worthington will also be hosting a coloring contest for the children of the community
LOCATION:City of Worthington City Hall
UID:e.2958.833
SEQUENCE:3
DTSTAMP:20260420T135909Z
URL:https://chamber.dyersville.org/events/details/santa-is-coming-to-worthington-iowa-833
END:VEVENT

END:VCALENDAR
