BEGIN:VCALENDAR
VERSION:2.0
PRODID:-//ChamberMaster//Event Calendar 2.0//EN
METHOD:PUBLISH
X-PUBLISHED-TTL:P3D
REFRESH-INTERVAL:P3D
CALSCALE:GREGORIAN
BEGIN:VEVENT
DTSTART:20221126T153000Z
DTEND:20221126T203000Z
X-MICROSOFT-CDO-ALLDAYEVENT:FALSE
SUMMARY:Small Business Saturday: Refueling Station
DESCRIPTION:Need a break from shopping? Stop in the James Kennedy Public Library and relax with a warm beverage or snack. Grab a few moments of down time by working on the puzzle\, coloring\, reading or just relaxing.
X-ALT-DESC;FMTTYPE=text/html:Need a break from shopping? Stop in the James Kennedy Public Library and relax with a warm beverage or snack. Grab a few moments of down time by working on the puzzle\, coloring\, reading or just relaxing.
LOCATION:James Kennedy Public Library
UID:e.2958.839
SEQUENCE:3
DTSTAMP:20260420T105430Z
URL:https://chamber.dyersville.org/events/details/small-business-saturday-refueling-station-839
END:VEVENT

END:VCALENDAR
