BEGIN:VCALENDAR
VERSION:2.0
PRODID:-//ChamberMaster//Event Calendar 2.0//EN
METHOD:PUBLISH
X-PUBLISHED-TTL:P3D
REFRESH-INTERVAL:P3D
CALSCALE:GREGORIAN
BEGIN:VEVENT
DTSTART:20221106T163000Z
DTEND:20221106T190000Z
X-MICROSOFT-CDO-ALLDAYEVENT:FALSE
SUMMARY:Spaghetti Dinner
DESCRIPTION:SS. Peter & Paul ~ Spaghetti Dinner Sunday\, November 6\, 2022\, serving in the Hennessy School in Petersburg. Meal includes: pasta\, marinara sauce\, meatballs\, alfredo sauce with ham & peas\, pesto sauce\, garlic bread\, garden salad with dressing\, dessert and beverages. Dine in or carry out available. Cost: $12 per adult\, $8 for kids age 5-10\, free under 5.
X-ALT-DESC;FMTTYPE=text/html:SS. Peter &amp\; Paul ~ Spaghetti Dinner Sunday\, November 6\, 2022\, serving in the Hennessy School in Petersburg. Meal includes: pasta\, marinara sauce\, meatballs\, alfredo sauce with ham &amp\; peas\, pesto sauce\, garlic bread\, garden salad with dressing\, dessert and beverages. Dine in or carry out available. Cost: $12 per adult\, $8 for kids age 5-10\, free under 5.
LOCATION:Petersburg\, IA Hennessy School
UID:e.2958.805
SEQUENCE:3
DTSTAMP:20260420T103230Z
URL:https://chamber.dyersville.org/events/details/spaghetti-dinner-805
END:VEVENT

END:VCALENDAR
