BEGIN:VCALENDAR
VERSION:2.0
PRODID:-//ChamberMaster//Event Calendar 2.0//EN
METHOD:PUBLISH
X-PUBLISHED-TTL:P3D
REFRESH-INTERVAL:P3D
CALSCALE:GREGORIAN
BEGIN:VEVENT
DTSTART:20230224T223000Z
DTEND:20230225T020000Z
X-MICROSOFT-CDO-ALLDAYEVENT:FALSE
SUMMARY:SS.Peter & Paul Fish Fry
DESCRIPTION:SS. peter & Paul Fish Fry Friday\, Feb. 24th\, serving from 4:30 - 8pm. Dine-in or carry-out will be offering both baked and fried fish. Dine-in: $15\, 6 pc. fish bucket $13 and 12 pc. fish bucket $25.
X-ALT-DESC;FMTTYPE=text/html:SS. peter &amp\; Paul Fish Fry Friday\, Feb. 24th\, serving from 4:30 - 8pm. Dine-in or carry-out will be offering both baked and fried fish. Dine-in: $15\, 6 pc. fish bucket $13 and 12 pc. fish bucket $25.
LOCATION:Held in the former Hennessy Catholic School in Petersburg
UID:e.2958.913
SEQUENCE:3
DTSTAMP:20260420T164557Z
URL:https://chamber.dyersville.org/events/details/ss-peter-paul-fish-fry-913
END:VEVENT

END:VCALENDAR
