BEGIN:VCALENDAR
VERSION:2.0
PRODID:-//ChamberMaster//Event Calendar 2.0//EN
METHOD:PUBLISH
X-PUBLISHED-TTL:P3D
REFRESH-INTERVAL:P3D
CALSCALE:GREGORIAN
BEGIN:VEVENT
DTSTART:20230324T213000Z
DTEND:20230325T003000Z
X-MICROSOFT-CDO-ALLDAYEVENT:FALSE
SUMMARY:St. Francis Xavier Fish Fry
DESCRIPTION:St. Francis Xavier is hosting our parish drive-thru Fish Fry on Friday\, March 24th. Serving: 4-piece fried cod\, baked potato\, coleslaw\, and a roll from 4:30 pm -7:30 pm. Cost is $15. Drive thru only!
X-ALT-DESC;FMTTYPE=text/html:St. Francis Xavier is hosting our parish drive-thru Fish Fry on Friday\, March 24th. Serving: 4-piece fried cod\, baked potato\, coleslaw\, and a roll from 4:30 pm -7:30 pm. Cost is $15. Drive thru only!
LOCATION:St. Francis Xavier School Auditorium\, Dyersville
UID:e.2958.949
SEQUENCE:3
DTSTAMP:20260420T164526Z
URL:https://chamber.dyersville.org/events/details/st-francis-xavier-fish-fry-949
END:VEVENT

END:VCALENDAR
