BEGIN:VCALENDAR
VERSION:2.0
PRODID:-//ChamberMaster//Event Calendar 2.0//EN
METHOD:PUBLISH
X-PUBLISHED-TTL:P3D
REFRESH-INTERVAL:P3D
CALSCALE:GREGORIAN
BEGIN:VEVENT
DTSTART:20221113T130000Z
DTEND:20221113T180000Z
X-MICROSOFT-CDO-ALLDAYEVENT:FALSE
SUMMARY:St. Francis Xavier Parish Annual Breakfast
DESCRIPTION:St. Francis Xavier Basilica Annual Parish Breakfast is Sunday\, November 13th from 7 am until 12 pm in the St. Francis Xavier Elementary Auditorium. We would like to invite everyone in our community and surrounding areas to attend. Look for the entrance signs by the school on the West end. This is a delicious breakfast at a reasonable price: $10 for age 11+\, ($9 for our Veterans)\, $5 for children 5 - 10\, free for children 4 and under. There will also be a bake sale going on with tasty cookies\, bars\, breads\, cakes and more available. So don't forget to grab a goodie before you leave and get your tickets for the Cash Raffle when you arrive. Tickets are $5 each or 5 for $20. $1500 in prizes is up for grabs this year!!! Questions please call Kristie at 563-543-5223.
X-ALT-DESC;FMTTYPE=text/html:St. Francis Xavier Basilica Annual Parish Breakfast is Sunday\, November 13th from 7 am until 12 pm in the St. Francis Xavier Elementary Auditorium. We would like to invite everyone in our community and surrounding areas to attend. Look for the entrance signs by the school on the West end. This is a delicious breakfast at a reasonable price: $10 for age 11+\, ($9 for our Veterans)\, $5 for children 5 - 10\, free for children 4 and under. There will also be a bake sale going on with tasty cookies\, bars\, breads\, cakes and more available. So don&#39\;t forget to grab a goodie before you leave and get your tickets for the Cash Raffle when you arrive. Tickets are $5 each or 5 for $20. $1500 in prizes is up for grabs this year!!! Questions please call Kristie at 563-543-5223.
LOCATION:St. Francis Xavier Elementary Auditorium
UID:e.2958.841
SEQUENCE:3
DTSTAMP:20260420T103420Z
URL:https://chamber.dyersville.org/events/details/st-francis-xavier-parish-annual-breakfast-841
END:VEVENT

END:VCALENDAR
