BEGIN:VCALENDAR
VERSION:2.0
PRODID:-//ChamberMaster//Event Calendar 2.0//EN
METHOD:PUBLISH
X-PUBLISHED-TTL:P3D
REFRESH-INTERVAL:P3D
CALSCALE:GREGORIAN
BEGIN:VEVENT
DTSTART:20220821T160000Z
DTEND:20220821T230000Z
X-MICROSOFT-CDO-ALLDAYEVENT:FALSE
SUMMARY:St. Paul Parish Festival
DESCRIPTION:Deep Fried Chicken by Far Fry\, fries\, coleslaw\, homemade bread\, assortment of homemade pies\, cakes\, bars\, and cookies\, milk and coffee served from 11:00 am - 3:00 pm. Silent Auction & Country Store. Parade starts at Noon\, Lunch Stand & Games 12:45pm - 5:00 pm\nAdults: $15\n\nChildren 5-10: $10\n\nCarry out is same price.\n\n8 piece chicken-$20\n\n5# Fries-$5
X-ALT-DESC;FMTTYPE=text/html:Deep Fried Chicken by Far Fry\, fries\, coleslaw\, homemade bread\, assortment of homemade pies\, cakes\, bars\, and cookies\, milk and coffee served from 11:00 am - 3:00 pm. Silent Auction &amp\; Country Store. Parade starts at Noon\, Lunch Stand &amp\; Games 12:45pm - 5:00 pm\n<div style="color: rgb(34\, 34\, 34)\; font-family: Arial\, Helvetica\, sans-serif\; font-size: small\;">Adults: $15</div>\n\n<div style="color: rgb(34\, 34\, 34)\; font-family: Arial\, Helvetica\, sans-serif\; font-size: small\;">Children 5-10: $10</div>\n\n<div style="color: rgb(34\, 34\, 34)\; font-family: Arial\, Helvetica\, sans-serif\; font-size: small\;">Carry out is same price.</div>\n\n<div style="color: rgb(34\, 34\, 34)\; font-family: Arial\, Helvetica\, sans-serif\; font-size: small\;">8 piece chicken-$20</div>\n\n<div style="color: rgb(34\, 34\, 34)\; font-family: Arial\, Helvetica\, sans-serif\; font-size: small\;">5# Fries-$5</div>\n
LOCATION:Worthington Memorial Hall\, Worthington\, IA
UID:e.2958.743
SEQUENCE:3
DTSTAMP:20260425T025039Z
URL:https://chamber.dyersville.org/events/details/st-paul-parish-festival-08-21-2022-743
END:VEVENT

END:VCALENDAR
