BEGIN:VCALENDAR
VERSION:2.0
PRODID:-//ChamberMaster//Event Calendar 2.0//EN
METHOD:PUBLISH
X-PUBLISHED-TTL:P3D
REFRESH-INTERVAL:P3D
CALSCALE:GREGORIAN
BEGIN:VEVENT
DTSTART:20220926T230000Z
DTEND:20220927T010000Z
X-MICROSOFT-CDO-ALLDAYEVENT:FALSE
SUMMARY:Strings Club
DESCRIPTION:Do you have a ukulele\, guitar or other string instrument that you would like to play more often? Do you want to grow your skills by jamming with others? Facilitated by Sue Engelbrecht and Gary Bramel\, teen and adult musicians of all skill levels are welcome. NOTE: This is not a class but a jam session so participants should know basic chords. Registration requested. Walk-ins are welcome as space allows.
X-ALT-DESC;FMTTYPE=text/html:Do you have a ukulele\, guitar or other string instrument that you would like to play more often? Do you want to grow your skills by jamming with others? Facilitated by Sue Engelbrecht and Gary Bramel\, teen and adult musicians of all skill levels are welcome. NOTE: This is not a class but a jam session so participants should know basic chords. Registration requested. Walk-ins are welcome as space allows.
LOCATION:James Kennedy Public Library
UID:e.2958.791
SEQUENCE:3
DTSTAMP:20260425T010210Z
URL:https://chamber.dyersville.org/events/details/strings-club-791
END:VEVENT

END:VCALENDAR
