BEGIN:VCALENDAR
VERSION:2.0
PRODID:-//ChamberMaster//Event Calendar 2.0//EN
METHOD:PUBLISH
X-PUBLISHED-TTL:P3D
REFRESH-INTERVAL:P3D
CALSCALE:GREGORIAN
BEGIN:VEVENT
DTSTART:20230204T160000Z
DTEND:20230204T180000Z
X-MICROSOFT-CDO-ALLDAYEVENT:FALSE
SUMMARY:Take Your Child to the Library Day
DESCRIPTION:Area families are invited to come to the library and explore what it has to offer! There will be special activities available for kids of all ages. Plus\, enjoy hot chocolate and cookies\, too! Kids of all ages and families are welcome\, but children under 6 need an adult or mature teen companion.
X-ALT-DESC;FMTTYPE=text/html:Area families are invited to come to the library and explore what it has to offer! There will be special activities available for kids of all ages. Plus\, enjoy hot chocolate and cookies\, too! Kids of all ages and families are welcome\, but children under 6 need an adult or mature teen companion.
LOCATION:James Kennedy Public Library
UID:e.2958.903
SEQUENCE:3
DTSTAMP:20260420T164809Z
URL:https://chamber.dyersville.org/events/details/take-your-child-to-the-library-day-02-04-2023-903
END:VEVENT

END:VCALENDAR
