BEGIN:VCALENDAR
VERSION:2.0
PRODID:-//ChamberMaster//Event Calendar 2.0//EN
METHOD:PUBLISH
X-PUBLISHED-TTL:P3D
REFRESH-INTERVAL:P3D
CALSCALE:GREGORIAN
BEGIN:VEVENT
DTSTART:20230211T220000Z
DTEND:20230211T233000Z
X-MICROSOFT-CDO-ALLDAYEVENT:FALSE
SUMMARY:Teen Quiz Bowl
DESCRIPTION:Join us for the first Library Teen Quiz Bowl! Participants can sign up for one of three teams (Max 6 players per team). Registration is requested\, and walk-ins are welcome if there is space on a team. For ages 13-18 only. People are welcome to come watch! This program is sponsored by TACKL.
X-ALT-DESC;FMTTYPE=text/html:Join us for the first Library Teen Quiz Bowl! Participants can sign up for one of three teams (Max 6 players per team). Registration is requested\, and walk-ins are welcome if there is space on a team. For ages 13-18 only. People are welcome to come watch! This program is sponsored by TACKL.
LOCATION:James Kennedy Public Library
UID:e.2958.901
SEQUENCE:3
DTSTAMP:20260420T151458Z
URL:https://chamber.dyersville.org/events/details/teen-quiz-bowl-901
END:VEVENT

END:VCALENDAR
