BEGIN:VCALENDAR
VERSION:2.0
PRODID:-//ChamberMaster//Event Calendar 2.0//EN
METHOD:PUBLISH
X-PUBLISHED-TTL:P3D
REFRESH-INTERVAL:P3D
CALSCALE:GREGORIAN
BEGIN:VEVENT
DTSTART:20230307T190000Z
DTEND:20230307T210000Z
X-MICROSOFT-CDO-ALLDAYEVENT:FALSE
SUMMARY:Unlocking Brain Fitness - KEYS to Dementia Prevention
DESCRIPTION:Sign up now for this 10-week evidence based course developed by doctors to help people aged 55 and older make lifestyle changes to reduce their risk of developing Alzheimer's and other forms of dementia. Participants must be 55 or older in good cognitive health and able to commit to attend the 10 in-person sessions. Sessions are 2 hours each. Cost is $20.00 per participant. Registration is required.
X-ALT-DESC;FMTTYPE=text/html:Sign up now for this 10-week evidence based course developed by doctors to help people aged 55 and older make lifestyle changes to reduce their risk of developing Alzheimer&rsquo\;s and other forms of dementia. Participants must be 55 or older in good cognitive health and able to commit to attend the 10 in-person sessions. Sessions are 2 hours each. Cost is $20.00 per participant. Registration is required.
LOCATION:James Kennedy Public Library
UID:e.2958.918
SEQUENCE:3
DTSTAMP:20260420T164917Z
URL:https://chamber.dyersville.org/events/details/unlocking-brain-fitness-keys-to-dementia-prevention-918
END:VEVENT

END:VCALENDAR
