BEGIN:VCALENDAR
VERSION:2.0
PRODID:-//ChamberMaster//Event Calendar 2.0//EN
METHOD:PUBLISH
X-PUBLISHED-TTL:P3D
REFRESH-INTERVAL:P3D
CALSCALE:GREGORIAN
BEGIN:VEVENT
DTSTART:20220906T233000Z
DTEND:20220907T010000Z
X-MICROSOFT-CDO-ALLDAYEVENT:FALSE
SUMMARY:Voting in Iowa: What You Should Know
DESCRIPTION:Kevin Dragotto\, the Dubuque County Auditor\, will be at the JKPL to share information about voting in the upcoming midterm elections under the new voting laws in Iowa. If you have specific questions you would like addressed\, please email librarian@dyersville.lib.ia.us in advance. Otherwise\, guests are welcome to bring questions about voting or the auditor's office. This presentation will be in person but guests can also attend virtually via Zoom. If you would like to attend this program virtually\, please contact the James Kennedy Public Library.
X-ALT-DESC;FMTTYPE=text/html:Kevin Dragotto\, the Dubuque County Auditor\, will be at the JKPL to share information about voting in the upcoming midterm elections under the new voting laws in Iowa. If you have specific questions you would like addressed\, please email librarian@dyersville.lib.ia.us in advance. Otherwise\, guests are welcome to bring questions about voting or the auditor&rsquo\;s office. This presentation will be in person but guests can also attend virtually via Zoom. If you would like to attend this program virtually\, please contact the James Kennedy Public Library.
LOCATION:James Kennedy Public Library
UID:e.2958.786
SEQUENCE:3
DTSTAMP:20260425T010949Z
URL:https://chamber.dyersville.org/events/details/voting-in-iowa-what-you-should-know-786
END:VEVENT

END:VCALENDAR
