BEGIN:VCALENDAR
VERSION:2.0
PRODID:-//ChamberMaster//Event Calendar 2.0//EN
METHOD:PUBLISH
X-PUBLISHED-TTL:P3D
REFRESH-INTERVAL:P3D
CALSCALE:GREGORIAN
BEGIN:VEVENT
DTSTART:20220918T180000Z
DTEND:20220918T210000Z
X-MICROSOFT-CDO-ALLDAYEVENT:FALSE
SUMMARY:Walking Molly at O So Good Winery
DESCRIPTION:Walking Molly Live at O So Good Winery. Come join the fun. Food\, Wine\, Beer and fun Available.
X-ALT-DESC;FMTTYPE=text/html:Walking Molly Live at O So Good Winery. Come join the fun. Food\, Wine\, Beer and fun Available.
LOCATION:O So Good Winery 2093 20th Ave SE
UID:e.2958.566
SEQUENCE:3
DTSTAMP:20260425T011851Z
URL:https://chamber.dyersville.org/events/details/walking-molly-at-o-so-good-winery-566
END:VEVENT

END:VCALENDAR
