BEGIN:VCALENDAR
VERSION:2.0
PRODID:-//ChamberMaster//Event Calendar 2.0//EN
METHOD:PUBLISH
X-PUBLISHED-TTL:P3D
REFRESH-INTERVAL:P3D
CALSCALE:GREGORIAN
BEGIN:VEVENT
DTSTART;VALUE=DATE:20220901
DTEND;VALUE=DATE:20221001
TRANSP:TRANSPARENT
X-MICROSOFT-CDO-ALLDAYEVENT:TRUE
SUMMARY:Westside Park StoryWalk®
DESCRIPTION:Families are invited to walk the StoryWalk  at Westside Park which begins south of the parking lot by the baseball diamond. Walk the trail and read the story\, "Big Bear Hug" by Nicholas Oldland\, to your children. Scan the QR code on the last post and answer the questions to be entered into a monthly prize drawing.
X-ALT-DESC;FMTTYPE=text/html:Families are invited to walk the StoryWalk&reg\; at Westside Park which begins south of the parking lot by the baseball diamond. Walk the trail and read the story\, &ldquo\;Big Bear Hug&rdquo\; by Nicholas Oldland\, to your children. Scan the QR code on the last post and answer the questions to be entered into a monthly prize drawing.
LOCATION:Westside Park
UID:e.2958.785
SEQUENCE:3
DTSTAMP:20260425T024917Z
URL:https://chamber.dyersville.org/events/details/westside-park-storywalk-09-01-2022-785
END:VEVENT

END:VCALENDAR
